BEGIN:VCALENDAR
VERSION:2.0
PRODID:-//Qué ver y hacer en Nueva York +100 Ideas para tu Viaje - ECPv6.15.20//NONSGML v1.0//EN
CALSCALE:GREGORIAN
METHOD:PUBLISH
X-ORIGINAL-URL:https://newyorkcityfeelings.com
X-WR-CALDESC:Eventos para Qué ver y hacer en Nueva York +100 Ideas para tu Viaje
REFRESH-INTERVAL;VALUE=DURATION:PT1H
X-Robots-Tag:noindex
X-PUBLISHED-TTL:PT1H
BEGIN:VTIMEZONE
TZID:UTC
BEGIN:STANDARD
TZOFFSETFROM:+0000
TZOFFSETTO:+0000
TZNAME:UTC
DTSTART:20240101T000000
END:STANDARD
END:VTIMEZONE
BEGIN:VEVENT
DTSTART;VALUE=DATE:20251024
DTEND;VALUE=DATE:20251025
DTSTAMP:20260421T091741
CREATED:20250730T185426Z
LAST-MODIFIED:20250925T173646Z
UID:8472-1761264000-1761350399@newyorkcityfeelings.com
SUMMARY:Gran Apertura del Winter Village en Bryant Park 2025
DESCRIPTION:El Winter Village de Bryant Park en 2025 se abrirá al publico el viernes 24 de octubre de 2025. Este evento marca el inicio de la temporada navideña en Bryant Park y tradicionalmente se inaugura el último viernes de octubre\, permitiendo a los visitantes disfrutar del espíritu festivo desde esa fecha. \nEl Winter Village incluye la pista de patinaje sobre hielo gratuita\, más de 170 casetas con productos artesanales y puestos de comida\, y permanece abierto hasta principios de marzo aproximadamente. La pista y las tiendas suelen estar abiertas de 8 a.m. a 10 p.m. todos los días durante la temporada.
URL:https://newyorkcityfeelings.com/es/calendar-event/winter-village-at-bryant-park/
LOCATION:Bryant Park\, Bryant Park\, New York City\, NY\, United States
CATEGORIES:Manhattan
ATTACH;FMTTYPE=image/webp:https://newyorkcityfeelings.com/wp-content/uploads/2024/11/Winter-Village_Bryant-Park_2022-12-28-08_Colin-Miller_70-1200x800-1.webp
END:VEVENT
END:VCALENDAR