BEGIN:VCALENDAR
VERSION:2.0
PRODID:-//Qué ver y hacer en Nueva York +100 Ideas para tu Viaje - ECPv6.15.20//NONSGML v1.0//EN
CALSCALE:GREGORIAN
METHOD:PUBLISH
X-ORIGINAL-URL:https://newyorkcityfeelings.com
X-WR-CALDESC:Eventos para Qué ver y hacer en Nueva York +100 Ideas para tu Viaje
REFRESH-INTERVAL;VALUE=DURATION:PT1H
X-Robots-Tag:noindex
X-PUBLISHED-TTL:PT1H
BEGIN:VTIMEZONE
TZID:UTC
BEGIN:STANDARD
TZOFFSETFROM:+0000
TZOFFSETTO:+0000
TZNAME:UTC
DTSTART:20260101T000000
END:STANDARD
END:VTIMEZONE
BEGIN:VEVENT
DTSTART;TZID=UTC:20270206T130000
DTEND;TZID=UTC:20270206T170000
DTSTAMP:20260421T221709
CREATED:20250730T183814Z
LAST-MODIFIED:20260311T121532Z
UID:8464-1801918800-1801933200@newyorkcityfeelings.com
SUMMARY:Desfile Anual del Año Nuevo Lunar Chino 2027 en Nueva York
DESCRIPTION:¿Cuándo es el año nuevo chino 2027?\nEl Desfile del Año Nuevo Lunar en Chinatown\, Nueva York\, tendrá lugar el Sábado 6 de febrero de 2027\, coincidiendo con el primer día del Año Nuevo Lunar según el calendario chino. \nHora de inicio del desfile\nAproximadamente a la 1:00 PM\, comenzando en la intersección de Mott Street y Canal Street. \nRecorrido\nEl desfile recorre las calles de Chinatown\, finalizando cerca del Parque Sara D. Roosevelt. \nActividades destacadas\nDanzas tradicionales del león y el dragón\, diversas agrupaciones de baile y otras actuaciones culturales. \nCeremonia de Fuegos Artificiales (Firecracker Ceremony)\nSe realiza en el Parque Sara D. Roosevelt el mismo día entre las 11:00 AM y 3:30 PM. Incluye fuegos artificiales y representaciones de los animales del zodíaco chino. \nEl Año Nuevo Lunar 2027 marca el comienzo del Año de la Cabra según el zodíaco chino. Las celebraciones suelen extenderse aproximadamente 16 días\, comenzando en la víspera del Año Nuevo y expresan la rica herencia cultural asiática en Nueva York. \nEl desfile y festival son eventos muy importantes para la comunidad asiática y atraen a miles de visitantes que desean experimentar la cultura\, tradiciones y la alegría de esta festividad ancestral.
URL:https://newyorkcityfeelings.com/es/calendar-event/ano-nuevo-chino-nueva-york-2027/
LOCATION:Chinatown\, Mott St\, New York City\, United States
CATEGORIES:Chinatown
ATTACH;FMTTYPE=image/webp:https://newyorkcityfeelings.com/wp-content/uploads/2024/11/SJM-L-CLOPARADE-0221-102.webp
END:VEVENT
END:VCALENDAR