BEGIN:VCALENDAR
VERSION:2.0
PRODID:-//Qué ver y hacer en Nueva York +100 Ideas para tu Viaje - ECPv6.15.20//NONSGML v1.0//EN
CALSCALE:GREGORIAN
METHOD:PUBLISH
X-WR-CALNAME:Qué ver y hacer en Nueva York +100 Ideas para tu Viaje
X-ORIGINAL-URL:https://newyorkcityfeelings.com
X-WR-CALDESC:Eventos para Qué ver y hacer en Nueva York +100 Ideas para tu Viaje
REFRESH-INTERVAL;VALUE=DURATION:PT1H
X-Robots-Tag:noindex
X-PUBLISHED-TTL:PT1H
BEGIN:VTIMEZONE
TZID:UTC
BEGIN:STANDARD
TZOFFSETFROM:+0000
TZOFFSETTO:+0000
TZNAME:UTC
DTSTART:20240101T000000
END:STANDARD
END:VTIMEZONE
BEGIN:VEVENT
DTSTART;VALUE=DATE:20251115
DTEND;VALUE=DATE:20260116
DTSTAMP:20260422T135347
CREATED:20250918T171232Z
LAST-MODIFIED:20251203T081505Z
UID:9017-1763164800-1768521599@newyorkcityfeelings.com
SUMMARY:Espectáculo de Luces "Saks Fifth Avenue Light Show" 2025
DESCRIPTION:Saks Fifth Avenue vuelve con su tradicional espectáculo de luces navideño. En 2025\, Saks ha decidido volver a su icónico espectáculo de luces con la mejora de sus escaparates navideños\, celebrando la belleza arquitectónica de su tienda de la Quinta Avenida.
URL:https://newyorkcityfeelings.com/es/calendar-event/saks-fifth-avenue-light-show-2025/
LOCATION:Saks Fifth Avenue\, 611 Fifth Avenue\, New York City\, NY\, United States
CATEGORIES:Manhattan
ATTACH;FMTTYPE=image/jpeg:https://newyorkcityfeelings.com/wp-content/uploads/2024/10/tumblr_inline_ov54prrNZ21rlgb7q_1280.jpeg
END:VEVENT
END:VCALENDAR