BEGIN:VCALENDAR
VERSION:2.0
PRODID:-//Qué ver y hacer en Nueva York +100 Ideas para tu Viaje - ECPv6.15.20//NONSGML v1.0//EN
CALSCALE:GREGORIAN
METHOD:PUBLISH
X-WR-CALNAME:Qué ver y hacer en Nueva York +100 Ideas para tu Viaje
X-ORIGINAL-URL:https://newyorkcityfeelings.com
X-WR-CALDESC:Eventos para Qué ver y hacer en Nueva York +100 Ideas para tu Viaje
REFRESH-INTERVAL;VALUE=DURATION:PT1H
X-Robots-Tag:noindex
X-PUBLISHED-TTL:PT1H
BEGIN:VTIMEZONE
TZID:UTC
BEGIN:STANDARD
TZOFFSETFROM:+0000
TZOFFSETTO:+0000
TZNAME:UTC
DTSTART:20240101T000000
END:STANDARD
END:VTIMEZONE
BEGIN:VEVENT
DTSTART;TZID=UTC:20250912T080000
DTEND;TZID=UTC:20251116T170000
DTSTAMP:20260424T115017
CREATED:20250908T165646Z
LAST-MODIFIED:20250908T165646Z
UID:8957-1757664000-1763312400@newyorkcityfeelings.com
SUMMARY:Illuminate Your Halloween: The 2025 Great Jack O'Lantern Blaze in New York's Hudson Valley
DESCRIPTION:La exhibición suele abrir entre las 17h y las 21h\, lo mejor es visitarla cuando sea completamente de noche.  \n¡Reserva las entradas lo antes posible porque suelen agotarse! \n\nAs the leaves turn golden and the air grows crisp\, New York transforms into a haven for autumnal festivities. One of the standout events is the Great Jack O’Lantern Blaze\, a mesmerizing Halloween spectacle that draws visitors from near and far. Celebrating its status as the top-rated Halloween attraction for two decades\, this family-friendly event features thousands of hand-carved jack o’lanterns illuminating historic grounds in a symphony of light\, sound\, and creativity. Held in the scenic Hudson Valley\, it’s an immersive walk-through experience that’s bigger\, brighter\, and more enchanting than ever in 2025. \nEvent Highlights and What’s New\nWander through a half-mile path adorned with larger-than-life pumpkin sculptures\, synchronized lighting\, and an original soundtrack that brings the displays to life. Expect to encounter life-sized dinosaurs\, a massive 24-foot spider web\, a twinkling Pumpkin Planetarium\, and a fully functional carousel—all crafted from intricately carved gourds. The event is self-paced\, typically taking about 45 minutes to traverse the trail\, but plan for up to 90 minutes to fully enjoy the on-site amenities. \nFor 2025\, the Blaze introduces fresh thrills tailored to New York pride and whimsy. Spot iconic landmarks like the Statue of Liberty or Empire State Building reimagined in pumpkin form. Stroll the new Pumpkin Promenade\, where themed displays rotate weekly for repeat visitors. Dive into a circus-inspired big top adventure\, or journey «over the rainbow» in a wickedly fun\, emerald-hued storybook dreamscape inspired by classic tales. Don’t miss the Headless Horseman’s Hideaway\, a spooky lounge with Legend of Sleepy Hollow vibes\, cocktails\, and surprise visits from the Horseman himself (all ages welcome\, but 21+ for alcohol). \nOn-site\, relax at the Gourd & Goblet Tavern for signature drinks\, snacks\, and games (best for ages 18+\, with indoor restrooms). Grab fall treats at Café Blaze\, and shop exclusive souvenirs at the Blaze Boo-tique. All proceeds benefit Historic Hudson Valley\, a non-profit preserving the region’s heritage. \nDates\, Location\, and Tickets\nThe 2025 Blaze runs on select nights from September 12 to November 16. It’s hosted at Van Cortlandt Manor\, an 18th-century estate at 525 South Riverside Avenue\, Croton-on-Hudson\, NY 10520—about 40 miles north of Manhattan in Westchester County. \nAdvance tickets are required\, with no on-site sales. FLEX tickets start at $24 and allow entry any night without reservations\, including a complimentary snack and drink from the courtyard café. Upgrade to FLEX PLUS for VIP access to the tavern and hideaway (limited availability). Members of Historic Hudson Valley and children 2 and under enter free. Purchase online at pumpkinblaze.org or hudsonvalley.org; prices vary by date\, with peaks in October. No refunds\, but timed tickets can be exchanged with a fee. \nHow to Get There from Manhattan\nReaching Van Cortlandt Manor from Manhattan is straightforward\, whether by public transit or car. \nBy Train (Public Transport)\nTake the Metro-North Hudson Line from Grand Central Terminal to Croton-Harmon station. Trains run every 20 minutes\, with the journey lasting about 1 hour and 12 minutes. Fares range from $11 to $18 one-way. From the station\, it’s a 13-minute walk (about a mile) to the manor\, or grab a quick cab for around $10. Buy tickets at Grand Central kiosks\, via the MTA TrainTime app\, or onboard (with a surcharge). \nBy Car\nDrive north via the Henry Hudson Parkway\, transitioning to the Saw Mill River Parkway\, then US-9 to Croton-on-Hudson—approximately 43 miles and 1 hour\, depending on traffic. Use GPS for real-time routing. Free on-site parking is available\, and you can arrive up to 30 minutes before your entry time. Note potential tolls on bridges or parkways. \nNo direct buses are highlighted\, but apps like Moovit can help plan combined bus-train routes if needed. \nEssential Info for Non-New Yorkers\nIf you’re visiting from out of town\, the Blaze is an accessible slice of New York autumn magic\, but preparation ensures a smooth trip. Book tickets early—weekends and October dates sell out fast. The event is rain or shine\, so check forecasts and dress in layers for cool evenings (temperatures can dip into the 40s°F/4°C). Wear comfortable shoes for the uneven terrain\, which includes brick paths and soft surfaces—it’s mostly wheelchair-accessible\, with no stairs\, and handicapped parking available. \nStrollers are allowed (narrow paths may challenge wide models)\, but no pets except service animals. Photography is encouraged for personal use\, sans tripods or drones. For extended stays\, nearby hotels like Tarrytown House Estate offer packages with Blaze tickets. Explore the Hudson Valley’s charm with side trips to Sleepy Hollow for more Halloween lore. Arrive hydrated and ready for fun—it’s recommended for all ages\, blending whimsy with mild spooks. \nWhether you’re a local or a traveler\, the 2025 Great Jack O’Lantern Blaze promises an unforgettable glow-up to your fall calendar. Secure your spot and let the pumpkins light the way!
URL:https://newyorkcityfeelings.com/es/calendar-event/2025-great-jack-olantern/
LOCATION:Van Cortlandt Manor 525 S Riverside\, Croton-on-Hudson\, NY 10520\, Manor 525 S Riverside\, Croton-on-Hudson\, NY\, 10520\, United States
CATEGORIES:5 boroughts
ATTACH;FMTTYPE=image/jpeg:https://newyorkcityfeelings.com/wp-content/uploads/2025/09/jackolantern.jpg
END:VEVENT
BEGIN:VEVENT
DTSTART;TZID=UTC:20251024T080000
DTEND;TZID=UTC:20260101T170000
DTSTAMP:20260424T115017
CREATED:20251108T094552Z
LAST-MODIFIED:20251108T094552Z
UID:9369-1761292800-1767286800@newyorkcityfeelings.com
SUMMARY:Apertura de la Pista de Patinaje Winter Village en Bryant Park 2025
DESCRIPTION:Entrada gratuita llevando tus propios patines\, $20 alquiler de patines.
URL:https://newyorkcityfeelings.com/es/calendar-event/bank-of-america-winter-village-rink/
LOCATION:Bryant Park\, Bryant Park\, New York City\, NY\, United States
CATEGORIES:Ice Skating
ATTACH;FMTTYPE=image/jpeg:https://newyorkcityfeelings.com/wp-content/uploads/2025/11/WinterVillage_-_2021-12-15_-_ColinMiller_66_fbook-1200x627-1.jpg
END:VEVENT
BEGIN:VEVENT
DTSTART;TZID=UTC:20251024T080000
DTEND;TZID=UTC:20260301T220000
DTSTAMP:20260424T115017
CREATED:20251106T120325Z
LAST-MODIFIED:20251113T182140Z
UID:9267-1761292800-1772402400@newyorkcityfeelings.com
SUMMARY:Bryant Park Winter Village
DESCRIPTION:Free rink (own skates)\, 190 shops\, curling café\, igloo bar.
URL:https://newyorkcityfeelings.com/es/calendar-event/bryant-park-winter-village-2/
LOCATION:Bryant Park\, Bryant Park\, New York City\, NY\, United States
CATEGORIES:Market
END:VEVENT
BEGIN:VEVENT
DTSTART;TZID=UTC:20251026T080000
DTEND;TZID=UTC:20260101T170000
DTSTAMP:20260424T115017
CREATED:20251108T095126Z
LAST-MODIFIED:20251108T095126Z
UID:9376-1761465600-1767286800@newyorkcityfeelings.com
SUMMARY:Apertura Pista de Patinaje Wollman Rink 2025
DESCRIPTION:Patina en la pista Wollman Rink de Central Park. $15 alquiler de patines.\n \nimage credit regina-geoghan
URL:https://newyorkcityfeelings.com/es/calendar-event/wollman-rink/
LOCATION:Central Park\, Central Park\, New York City\, NY\, United States
CATEGORIES:Ice Skating
ATTACH;FMTTYPE=image/jpeg:https://newyorkcityfeelings.com/wp-content/uploads/2025/11/wollman-rink-regina-geoghan.jpg
END:VEVENT
BEGIN:VEVENT
DTSTART;VALUE=DATE:20251108
DTEND;VALUE=DATE:20260106
DTSTAMP:20260424T115017
CREATED:20251110T195347Z
LAST-MODIFIED:20260102T101344Z
UID:9457-1762560000-1767657599@newyorkcityfeelings.com
SUMMARY:Radio City Rockettes' Christmas Spectacular 2025
DESCRIPTION:  \nBuy Radio City Christmas Rockettes Spectacular Tickets at HelloTickets.com \n  \nThe Radio City Christmas Spectacular is a beloved holiday tradition that has captivated audiences since its debut in 1933. This enchanting show\, featuring the world-famous Radio City Rockettes\, combines dazzling dance performances\, festive music\, and a heartwarming narrative that celebrates the magic of Christmas. \nShow Highlights\nThe Christmas Spectacular captivates audiences with a 90-minute show featuring over 140 performers\, including the famous Rockettes. Viewers will enjoy iconic acts like the «Parade of the Wooden Soldiers\,» where the Rockettes perform a stunning routine resembling falling dominoes. The story follows two brothers on a quest for the perfect Christmas gift for their sister\, leading to an unexpected adventure with Santa at the North Pole. With catchy songs like «Santa’s Gonna Rock and Roll\,» this production sparks holiday cheer and creates lasting memories. \nTicket Information\nTickets for the Radio City Christmas Spectacular are now available online\, with prices starting at $76 and averaging around $188\, depending on the date and seating choice. The show runs from November 8\, 2025\, to January 5\, 2026\, making it an ideal holiday outing for families and friends. To secure your spot at this festive celebration\, purchase your tickets in advance. Rockettes Christmas Discount Tickets are available at HelloTickets.com \nLocation\nThe spectacular event occurs at the iconic Radio City Music Hall\, situated in the heart of New York City at Rockefeller Center. This historic venue boasts stunning Art Deco architecture and has been a key part of New York’s entertainment scene for decades. Attending a performance here provides an opportunity to enjoy an incredible show while immersing oneself in the festive atmosphere of one of the city’s most famous holiday destinations. \nTips\nTicket Purchase: It’s advisable to book tickets in advance due to high demand\, especially during weekends and holidays. Discounts may be available through various platform. \nGetting There: Arrive early to navigate crowds and find your seat comfortably. Consider taking public transport as parking can be limited around Radio City Music Hall. \nExperience Enhancements\nConsider taking a Stage Door Tour before or after the show to learn about the history of Radio City Music Hall and meet a Rockette. \nThe Radio City Christmas Spectacular is more than just a show; it’s an experience filled with joy\, laughter\, and holiday spirit that brings families together year after year. Don’t miss your chance to witness this magical event! \n  \nRockettes Christmas Discount Tickets are available at HelloTickets.com\n 
URL:https://newyorkcityfeelings.com/es/calendar-event/radio-city-rockettes-christmas-spectacular-2025/
LOCATION:Rockefeller Center\, 30 rockefeller plaza\, New York City\, United States
CATEGORIES:christmas,Manhattan,Midtown
ATTACH;FMTTYPE=image/jpeg:https://newyorkcityfeelings.com/wp-content/uploads/2016/11/Radio-City21.jpg
END:VEVENT
END:VCALENDAR