BEGIN:VCALENDAR
VERSION:2.0
PRODID:-//Qué ver y hacer en Nueva York +100 Ideas para tu Viaje - ECPv6.15.20//NONSGML v1.0//EN
CALSCALE:GREGORIAN
METHOD:PUBLISH
X-WR-CALNAME:Qué ver y hacer en Nueva York +100 Ideas para tu Viaje
X-ORIGINAL-URL:https://newyorkcityfeelings.com
X-WR-CALDESC:Eventos para Qué ver y hacer en Nueva York +100 Ideas para tu Viaje
REFRESH-INTERVAL;VALUE=DURATION:PT1H
X-Robots-Tag:noindex
X-PUBLISHED-TTL:PT1H
BEGIN:VTIMEZONE
TZID:UTC
BEGIN:STANDARD
TZOFFSETFROM:+0000
TZOFFSETTO:+0000
TZNAME:UTC
DTSTART:20240101T000000
END:STANDARD
END:VTIMEZONE
BEGIN:VEVENT
DTSTART;VALUE=DATE:20250911
DTEND;VALUE=DATE:20250913
DTSTAMP:20260422T004049
CREATED:20250730T190734Z
LAST-MODIFIED:20250730T190844Z
UID:8481-1757548800-1757721599@newyorkcityfeelings.com
SUMMARY:Tribute in Light 2025 en Nueva YorkUn homenaje evocador a las Torres Gemelas
DESCRIPTION:Tribute in Light 2025 iluminará el skyline de la ciudad de Nueva York el 11 de septiembre\nEl Tribute in Light 2025 volverá a iluminar el skyline de la ciudad de Nueva York en la noche del 11 de septiembre\, rindiendo homenaje a las vidas perdidas en los atentados terroristas del 11 de septiembre de 2001. Esta emotiva instalación artística presenta dos potentes columnas verticales de luz que representan las Torres Gemelas\, brillando desde el anochecer hasta el amanecer sobre el Bajo Manhattan\, cerca del sitio original del World Trade Center. \nLa instalación utiliza 88 potentes focos de xenón (44 para cada torre)\, que generan haces de luz visibles hasta a 60 millas de distancia en una noche despejada. Las luces alcanzan hasta cuatro millas de altura en el cielo\, ofreciendo un homenaje evocador a las Torres Gemelas y simbolizando la resiliencia\, la unidad y el recuerdo. El Tribute in Light comenzó como un memorial temporal en 2002 y se ha convertido en una tradición anual\, organizada por el National September 11 Memorial & Museum y el Municipal Art Society de Nueva York. \nPara el 24º aniversario en 2025\, el proyecto continúa su colaboración con NYC Tourism + Conventions\, numerosos edificios de la ciudad también participan iluminando sus fachadas y azoteas en azul cielo\, un gesto simbólico de memoria colectiva y honor. Este tributo luminoso no solo es un memorial\, sino también un faro de esperanza y fortaleza\, recordando cada año a millones la resiliencia de la ciudad frente a la tragedia. \nEl Tribute in Light es un recordatorio anual conmovedor en el corazón de Nueva York\, ofreciendo un momento de reflexión y unión desde el anochecer del 11 de septiembre hasta el amanecer del 12 de septiembre de 2025. \nLos haces de luz se ven mejor desde el Lower Manhattan y muchas áreas circundantes\, especialmente en una noche despejada. El evento de este año continúa honrando la memoria de los que se perdieron mientras celebra el espíritu perdurable de la ciudad de Nueva York.
URL:https://newyorkcityfeelings.com/es/calendar-event/tribute-in-light-2025/
LOCATION:9/11 Memeorial\, 9/11 Memorial\, New York City\, NY\, 10001\, United States
CATEGORIES:Manhattan
ATTACH;FMTTYPE=image/webp:https://newyorkcityfeelings.com/wp-content/uploads/2019/08/tribute-in-light-new-york-city_b2cf33c4-d5ce-4b8e-a235-57300d5345f4.webp
END:VEVENT
END:VCALENDAR