BEGIN:VCALENDAR
VERSION:2.0
PRODID:-//Qué ver y hacer en Nueva York +100 Ideas para tu Viaje - ECPv6.15.20//NONSGML v1.0//EN
CALSCALE:GREGORIAN
METHOD:PUBLISH
X-ORIGINAL-URL:https://newyorkcityfeelings.com
X-WR-CALDESC:Eventos para Qué ver y hacer en Nueva York +100 Ideas para tu Viaje
REFRESH-INTERVAL;VALUE=DURATION:PT1H
X-Robots-Tag:noindex
X-PUBLISHED-TTL:PT1H
BEGIN:VTIMEZONE
TZID:UTC
BEGIN:STANDARD
TZOFFSETFROM:+0000
TZOFFSETTO:+0000
TZNAME:UTC
DTSTART:20240101T000000
END:STANDARD
END:VTIMEZONE
BEGIN:VEVENT
DTSTART;VALUE=DATE:20250825
DTEND;VALUE=DATE:20250908
DTSTAMP:20260421T190659
CREATED:20250728T180722Z
LAST-MODIFIED:20250729T171607Z
UID:8415-1756080000-1757289599@newyorkcityfeelings.com
SUMMARY:US Open de Tenis 2025 en Nueva York
DESCRIPTION:El US Open de Tenis 2025 se celebrará del 25 de agosto al 7 de septiembre de 2025 en el emblemático USTA Billie Jean King National Tennis Center en Flushing Meadows (Queens)\, Nueva York. Este prestigioso evento marca la culminación de la temporada de tenis y es uno de los cuatro torneos de Grand Slam. \n\n\nSede: El torneo tendrá lugar en el USTA Billie Jean King National Tennis Center\, que cuenta con el reconocido Arthur Ashe Stadium\, con una capacidad de 23.200 personas y un techo retráctil que permite que los partidos se disputen sin interrupciones independientemente de las condiciones climáticas. \n\n\nCalendario: El torneo arranca con la primera ronda el 25 de agosto\, con partidos tanto masculinos como femeninos. Las semifinales están programadas para los días 4 y 5 de septiembre\, concluyendo con las finales el 6 y 7 de septiembre. \n\n\nEntradas: Las entradas estarán disponibles para diferentes sesiones\, comenzando desde aproximadamente 195$ para las primeras rondas y llegando hasta unos 2.400$ para la final masculina. Los aficionados podrán elegir entre diferentes opciones de asientos en los tres principales estadios: Arthur Ashe\, Louis Armstrong y Grandstand Stadium. \n\n\n  \nBuy official tickets to 2025 US Open matches at StubHub.
URL:https://newyorkcityfeelings.com/es/calendar-event/us-open-de-tenis-2025-en-nueva-york/
LOCATION:Billie Jean King National Tennis Center\, Flushing Meadows Corona Park\, New York City\, 11368\, United States
CATEGORIES:Queens
ATTACH;FMTTYPE=image/avif:https://newyorkcityfeelings.com/wp-content/uploads/2024/12/c_ticketplans-Opening-Sessions.avif
END:VEVENT
END:VCALENDAR