BEGIN:VCALENDAR
VERSION:2.0
PRODID:-//NYC Travel Guide 2026: Things to Do, Eat, Events &amp; More - ECPv6.15.20//NONSGML v1.0//EN
CALSCALE:GREGORIAN
METHOD:PUBLISH
X-WR-CALNAME:NYC Travel Guide 2026: Things to Do, Eat, Events &amp; More
X-ORIGINAL-URL:https://newyorkcityfeelings.com
X-WR-CALDESC:Events for NYC Travel Guide 2026: Things to Do, Eat, Events &amp; More
REFRESH-INTERVAL;VALUE=DURATION:PT1H
X-Robots-Tag:noindex
X-PUBLISHED-TTL:PT1H
BEGIN:VTIMEZONE
TZID:UTC
BEGIN:STANDARD
TZOFFSETFROM:+0000
TZOFFSETTO:+0000
TZNAME:UTC
DTSTART:20250101T000000
END:STANDARD
END:VTIMEZONE
BEGIN:VEVENT
DTSTART;VALUE=DATE:20260910
DTEND;VALUE=DATE:20260921
DTSTAMP:20260421T202241
CREATED:20250111T193225Z
LAST-MODIFIED:20260410T182754Z
UID:6871-1788998400-1789948799@newyorkcityfeelings.com
SUMMARY:The Feast of San Gennaro 2026 in New York City
DESCRIPTION: SoHo\, Little Italy\, & Chinatown Tour at HelloTickets.com  \nWhen is San Gennaro festival 2026?\nGet ready for a mouthwatering\, music-filled celebration of Italian culture in the heart of Manhattan! The 100th Annual San Gennaro Festival is coming to Little Italy\, and it’s going to be an epic 11-day extravaganza. \n100th Fest of San Gennaro 2026\nMark your calendars for September 10th to 20st\, 2026! The festival will take over Mulberry Street between Houston and Canal Street\, transforming the neighborhood into a vibrant Italian street party. \nSan Gennaro 2026 Dates\n– Grand Procession: On Saturday\, September 19\, 2026\, watch the spectacular parade starting at 2 PM from the Most Precious Blood Church. Witness the statue of San Gennaro carried through the historic streets of Little Italy \n– Foodie Paradise: Indulge in authentic Italian delicacies like cannolis\, zeppoles\, and other mouth-watering treats that will transport you straight to Naples \nWhy San Gennaro Festival NYC 2026 ?\nThis beloved festival began in 1926 as a celebration by Neapolitan immigrants honoring their patron saint\, San Gennaro. What started as a one-day block party has grown into a world-renowned 10-day event that celebrates Italian culture\, community\, and tradition. \nWhat to Expect\n– Colorful street decorations\n– Live music and entertainment\n– Over 300 vendors\n– Traditional religious ceremonies\n– Festive atmosphere that makes everyone feel a little Italian! \nWhether you’re a food lover\, culture enthusiast\, or just looking for a fantastic New York experience\, the San Gennaro Festival 2026 is a must-visit event that promises fun for everyone. \nBuon divertimento! (Have a good time!) \n SoHo\, Little Italy\, & Chinatown Tour at HelloTickets.com
URL:https://newyorkcityfeelings.com/calendar-event/san-gennaro-festival-nyc-2026/
LOCATION:Little Italy\, NY\, United States
CATEGORIES:Little Italy
ATTACH;FMTTYPE=image/jpeg:https://newyorkcityfeelings.com/wp-content/uploads/2025/01/san-gennaro.jpeg
END:VEVENT
BEGIN:VEVENT
DTSTART;TZID=UTC:20260919T080000
DTEND;TZID=UTC:20260919T170000
DTSTAMP:20260421T202241
CREATED:20190826T174556Z
LAST-MODIFIED:20260112T090317Z
UID:2586-1789804800-1789837200@newyorkcityfeelings.com
SUMMARY:Oktoberfest in Central Park 2026 (pending confirmation)
DESCRIPTION:Oktoberfest in Central Park’s SummerStage\nCelebrate the spirit of Bavaria without leaving Manhattan at Oktoberfest in Central Park’s SummerStage.\n​ \nEvent snapshot\nDate: Saturday\, September 19\, 2026 \nTime: Gates open at 1:00 pm \nLocation: SummerStage\, Rumsey Playfield\, Central Park\, New York City\n​ \nWhat to expect\nAuthentic German beer\, pretzels\, and classic festival dishes served in the open-air setting of Central Park’s iconic green oasis.\n​ \nLive traditional music\, dancing\, and the national Stein Holding (Masskrugstemmen) Championship bringing over 200 years of Oktoberfest tradition to NYC.\n​ \nWhy it’s special\nCentral Park’s SummerStage turns into the city’s biggest German-style beer garden\, surrounded by trees\, skyline views\, and a festive crowd.\n​ \nPerfect for friends\, families\, and German-culture lovers looking to keep the celebration going after the German-American Steuben Parade on Fifth Avenue.\n​
URL:https://newyorkcityfeelings.com/calendar-event/oktoberfest-in-central-park-2026/
LOCATION:Central Park\, Central Park\, New York City\, NY\, United States
ATTACH;FMTTYPE=image/jpeg:https://newyorkcityfeelings.com/wp-content/uploads/2019/08/Oktoberfest-2026-nyc-1.jpg
END:VEVENT
END:VCALENDAR