BEGIN:VCALENDAR
VERSION:2.0
PRODID:-//NYC Travel Guide 2026: Things to Do, Eat, Events &amp; More - ECPv6.15.20//NONSGML v1.0//EN
CALSCALE:GREGORIAN
METHOD:PUBLISH
X-WR-CALNAME:NYC Travel Guide 2026: Things to Do, Eat, Events &amp; More
X-ORIGINAL-URL:https://newyorkcityfeelings.com
X-WR-CALDESC:Events for NYC Travel Guide 2026: Things to Do, Eat, Events &amp; More
REFRESH-INTERVAL;VALUE=DURATION:PT1H
X-Robots-Tag:noindex
X-PUBLISHED-TTL:PT1H
BEGIN:VTIMEZONE
TZID:UTC
BEGIN:STANDARD
TZOFFSETFROM:+0000
TZOFFSETTO:+0000
TZNAME:UTC
DTSTART:20240101T000000
END:STANDARD
END:VTIMEZONE
BEGIN:VEVENT
DTSTART;VALUE=DATE:20250825
DTEND;VALUE=DATE:20250908
DTSTAMP:20260421T205832
CREATED:20241213T092610Z
LAST-MODIFIED:20250104T104211Z
UID:6422-1756080000-1757289599@newyorkcityfeelings.com
SUMMARY:US Open Tennis Championships 2025
DESCRIPTION:The 2025 US Open Tennis Championships will take place from August 25 to September 7\, 2025\, at the iconic Billie Jean King National Tennis Center in Flushing Meadows\, New York. This prestigious event marks the culmination of the tennis season and is one of the four Grand Slam tournaments. \n– Venue: The tournament will be held at the USTA Billie Jean King National Tennis Center\, featuring the renowned Arthur Ashe Stadium\, which has a capacity of 23\,200 and is equipped with a retractable roof\, allowing for uninterrupted play regardless of weather conditions. \n– Schedule: The tournament kicks off with the first round on August 25\, featuring both men’s and women’s matches. The semifinals are scheduled for September 4 and 5\, culminating in the finals on September 6 and 7. \n– Ticketing: Tickets will be available for various sessions\, starting from around $195 for early rounds and escalating to approximately $2\,400 for the men’s final. Fans can choose between different seating options across three main stadiums: Arthur Ashe\, Louis Armstrong\, and Grandstand Stadium. \n  \nBuy official tickets to 2025 US Open matches at StubHub.
URL:https://newyorkcityfeelings.com/calendar-event/us-open-tennis-championships-2025/
LOCATION:Billie Jean King National Tennis Center\, Flushing Meadows Corona Park\, New York City\, 11368\, United States
CATEGORIES:Queens
ATTACH;FMTTYPE=image/avif:https://newyorkcityfeelings.com/wp-content/uploads/2024/12/c_ticketplans-Opening-Sessions.avif
END:VEVENT
BEGIN:VEVENT
DTSTART;TZID=UTC:20250907T080000
DTEND;TZID=UTC:20250907T170000
DTSTAMP:20260421T205832
CREATED:20250819T071419Z
LAST-MODIFIED:20250819T072542Z
UID:8833-1757232000-1757264400@newyorkcityfeelings.com
SUMMARY:Free Broadway Concert in Times Square to Celebrate NYC’s 400th Birthday: Date\, Lineup & Event Details
DESCRIPTION:Don’t Miss NYC’s 400th Birthday: Free Times Square Concert Featuring 23 Broadway Shows on September 7\, 2025\nNew York City is celebrating its 400th birthday in grand style with a spectacular free Broadway concert in the heart of Times Square. On Sunday\, September 7\, 2025\, “Founded By Broadway” will transform Duffy Square into an open-air stage\, bringing together stars from 23 of Broadway’s most acclaimed shows for an unforgettable musical showcase. The festivities will kick off at 11:00a.m.\, rain or shine\, inviting both New Yorkers and visitors to join the city’s ultimate birthday bash. \n“Founded By NYC” campaign is dedicated to honoring 400 years of New York history with citywide concerts\, outdoor movies\, museum festivals\, and more. “Founded By Broadway” underscores the deep connection between Broadway and the city itself\, showcasing how the theater district has continuously inspired\, entertained\, and defined NYC’s cultural and economic landscape. \nAudience members in Times Square can expect show-stopping performances from a vibrant lineup of hit musicals and plays\, including: \n\nAladdin\nWicked\nThe Book of Mormon\nThe Lion King\nMJ\nHarry Potter and the Cursed Child\nMamma Mia!\n& Juliet\nMoulin Rouge! The Musical\nSIX: The Musical\nCabaret at the Kit Kat Club\nChicago\nThe Great Gatsby\nDeath Becomes Her\nStranger Things: The First Shadow\nHell’s Kitchen\, and many more.\n\nAll acts will be accompanied by live music\, courtesy of The Music Performance Trust Fund and the Film Funds\, promising authentic Broadway energy in the open air. This celebration also coincides with the kickoff of NYC Broadway Week\, offering theater goers special 2-for-1 ticket promotions at numerous productions across the city. \nThe story of Broadway is the story of New York City\, and with ‘Founded By Broadway’ and this Times Square concert for all to partake in for free\, we will help tell both of these stories this September. The concert aims to draw locals and tourists alike\, celebrating the city’s artistic spirit and demonstrating once again why New York remains “the greatest city in the world.” \n  \nImage by Andreas H. \n  Buy Broadway Tickets at HelloTickets.com
URL:https://newyorkcityfeelings.com/calendar-event/free-broadway-concert-in-times-square/
LOCATION:Times Square\, 1 Times Square\, New York City\, United States
CATEGORIES:Midtown
ATTACH;FMTTYPE=image/jpeg:https://newyorkcityfeelings.com/wp-content/uploads/2025/08/broadway-show.jpg
END:VEVENT
BEGIN:VEVENT
DTSTART;VALUE=DATE:20250911
DTEND;VALUE=DATE:20250913
DTSTAMP:20260421T205832
CREATED:20190826T171910Z
LAST-MODIFIED:20250730T190244Z
UID:2572-1757548800-1757721599@newyorkcityfeelings.com
SUMMARY:Tribute in Light 2025 New York City | 9/11 Memorial Light Installation NYC
DESCRIPTION:The Tribute in Light 2025 is set to illuminate the New York City skyline on the evening of September 11\, once again honoring the lives lost in the September 11\, 2001\, terrorist attacks. This moving art installation features two powerful vertical columns of light that represent the Twin Towers\, shining from dusk until dawn over Lower Manhattan\, near the original World Trade Center site. \nThe installation uses 88 high-intensity xenon spotlights (44 for each tower)\, producing beams visible up to 60 miles away on a clear night. The lights reach as high as four miles into the sky\, casting an evocative homage to the Twin Towers and symbolizing resilience\, unity\, and remembrance. The Tribute in Light began as a temporary memorial in 2002 and has become an annual tradition\, organized by the National September 11 Memorial & Museum and the Municipal Art Society of New York. \nFor the 24th anniversary in 2025\, the project continues its longstanding collaboration with New York City Tourism + Conventions and many city buildings that also participate by lighting their facades and rooftops in sky blue — a symbolic gesture of collective memory and honor. This luminous tribute serves not only as a memorial but also as a beacon of hope and strength\, reminding millions each year of the city’s resilience in the face of tragedy. \nThe Tribute in Light stands as a poignant annual reminder in New York City’s heart\, offering a moment of reflection and unity from dusk on September 11 to the dawn of September 12\, 2025. \nThe beams can be best seen from Lower Manhattan and many surrounding areas\, especially on a clear night. This year’s event continues to honor the memory of those lost while celebrating the enduring spirit of New York City.
URL:https://newyorkcityfeelings.com/calendar-event/tribute-in-light-2025/
LOCATION:9/11 Memeorial\, 9/11 Memorial\, New York City\, NY\, 10001\, United States
CATEGORIES:Manhattan
ATTACH;FMTTYPE=image/webp:https://newyorkcityfeelings.com/wp-content/uploads/2019/08/tribute-in-light-new-york-city_b2cf33c4-d5ce-4b8e-a235-57300d5345f4.webp
END:VEVENT
BEGIN:VEVENT
DTSTART;TZID=UTC:20250912T080000
DTEND;TZID=UTC:20251116T170000
DTSTAMP:20260421T205832
CREATED:20250908T165259Z
LAST-MODIFIED:20250916T073711Z
UID:8952-1757664000-1763312400@newyorkcityfeelings.com
SUMMARY:Illuminate Your Halloween: The 2025 Great Jack O'Lantern Blaze in New York's Hudson Valley
DESCRIPTION:As the leaves turn golden and the air grows crisp\, New York transforms into a haven for autumnal festivities. One of the standout events is the Great Jack O’Lantern Blaze\, a mesmerizing Halloween spectacle that draws visitors from near and far. Celebrating its status as the top-rated Halloween attraction for two decades\, this family-friendly event features thousands of hand-carved jack o’lanterns illuminating historic grounds in a symphony of light\, sound\, and creativity. Held in the scenic Hudson Valley\, it’s an immersive walk-through experience that’s bigger\, brighter\, and more enchanting than ever in 2025. \nEvent Highlights and What’s New\nWander through a half-mile path adorned with larger-than-life pumpkin sculptures\, synchronized lighting\, and an original soundtrack that brings the displays to life. Expect to encounter life-sized dinosaurs\, a massive 24-foot spider web\, a twinkling Pumpkin Planetarium\, and a fully functional carousel—all crafted from intricately carved gourds. The event is self-paced\, typically taking about 45 minutes to traverse the trail\, but plan for up to 90 minutes to fully enjoy the on-site amenities. \nFor 2025\, the Blaze introduces fresh thrills tailored to New York pride and whimsy. Spot iconic landmarks like the Statue of Liberty or Empire State Building reimagined in pumpkin form. Stroll the new Pumpkin Promenade\, where themed displays rotate weekly for repeat visitors. Dive into a circus-inspired big top adventure\, or journey “over the rainbow” in a wickedly fun\, emerald-hued storybook dreamscape inspired by classic tales. Don’t miss the Headless Horseman’s Hideaway\, a spooky lounge with Legend of Sleepy Hollow vibes\, cocktails\, and surprise visits from the Horseman himself (all ages welcome\, but 21+ for alcohol). \nOn-site\, relax at the Gourd & Goblet Tavern for signature drinks\, snacks\, and games (best for ages 18+\, with indoor restrooms). Grab fall treats at Café Blaze\, and shop exclusive souvenirs at the Blaze Boo-tique. All proceeds benefit Historic Hudson Valley\, a non-profit preserving the region’s heritage. \nDates\, Location\, and Tickets\nThe 2025 Blaze runs on select nights from September 12 to November 16. It’s hosted at Van Cortlandt Manor\, an 18th-century estate at 525 South Riverside Avenue\, Croton-on-Hudson\, NY 10520—about 40 miles north of Manhattan in Westchester County. \nAdvance tickets are required\, with no on-site sales. FLEX tickets start at $24 and allow entry any night without reservations\, including a complimentary snack and drink from the courtyard café. Upgrade to FLEX PLUS for VIP access to the tavern and hideaway (limited availability). Members of Historic Hudson Valley and children 2 and under enter free. Purchase online at pumpkinblaze.org or hudsonvalley.org; prices vary by date\, with peaks in October. No refunds\, but timed tickets can be exchanged with a fee. \nHow to Get There from Manhattan\nReaching Van Cortlandt Manor from Manhattan is straightforward\, whether by public transit or car. \nBy Train (Public Transport)\nTake the Metro-North Hudson Line from Grand Central Terminal to Croton-Harmon station. Trains run every 20 minutes\, with the journey lasting about 1 hour and 12 minutes. Fares range from $11 to $18 one-way. From the station\, it’s a 13-minute walk (about a mile) to the manor\, or grab a quick cab for around $10. Buy tickets at Grand Central kiosks\, via the MTA TrainTime app\, or onboard (with a surcharge). \nBy Car\nDrive north via the Henry Hudson Parkway\, transitioning to the Saw Mill River Parkway\, then US-9 to Croton-on-Hudson—approximately 43 miles and 1 hour\, depending on traffic. Use GPS for real-time routing. Free on-site parking is available\, and you can arrive up to 30 minutes before your entry time. Note potential tolls on bridges or parkways. \nStrollers are allowed (narrow paths may challenge wide models)\, but no pets except service animals. Photography is encouraged for personal use\, sans tripods or drones. For extended stays\, nearby hotels like Tarrytown House Estate offer packages with Blaze tickets. Explore the Hudson Valley’s charm with side trips to Sleepy Hollow for more Halloween lore. \nWhether you’re a local or a traveler\, the 2025 Great Jack O’Lantern Blaze promises an unforgettable glow-up to your fall calendar. Secure your spot and let the pumpkins light the way!
URL:https://newyorkcityfeelings.com/calendar-event/2025-great-jack-olantern/
LOCATION:Van Cortlandt Manor 525 S Riverside\, Croton-on-Hudson\, NY 10520\, Manor 525 S Riverside\, Croton-on-Hudson\, NY\, 10520\, United States
CATEGORIES:5 boroughts
ATTACH;FMTTYPE=image/jpeg:https://newyorkcityfeelings.com/wp-content/uploads/2025/09/jackolantern.jpg
END:VEVENT
BEGIN:VEVENT
DTSTART;TZID=UTC:20250913T080000
DTEND;TZID=UTC:20250913T170000
DTSTAMP:20260421T205832
CREATED:20250906T102501Z
LAST-MODIFIED:20250906T103102Z
UID:8929-1757750400-1757782800@newyorkcityfeelings.com
SUMMARY:Dave Portnoy’s One Bite Pizza Festival 2025: A Slice of Heaven Returns to NYC
DESCRIPTION:Get ready to loosen your belts and fire up your taste buds because Dave Portnoy’s One Bite Pizza Festival is back for its third and most epic year yet! On Saturday\, September 13\, 2025\, Randall’s Island Park will transform into a pizza lover’s paradise\, hosting over 40 of America’s top pizzerias for an all-you-can-eat extravaganza that promises to be bigger\, bolder\, and tastier than ever. Following two consecutive sellouts\, including a whopping 10\,000+ attendees in 2024\, Barstool Sports founder Dave Portnoy and event production powerhouse Medium Rare are pulling out all the stops for this culinary celebration of pizza culture. \nA Pizza-Packed Lineup Handpicked by El Presidente\nKnown for his viral “One Bite” pizza review series\, where every slice is judged with the iconic tagline\, “One Bite\, Everyone Knows the Rules\,” Portnoy has spent years crisscrossing the country\, sampling thousands of pies to curate the ultimate lineup. This year’s festival features legendary pizzerias like Lucali\, Frank Pepe Pizzeria Napoletana\, Di Fara\, Sally’s Apizza\, Prince Street Pizza\, and John’s of Bleecker Street\, alongside newcomers like Ceres (VIP-only) and Pizz’amici from Chicago. With over 40 pizzerias dishing out unlimited slices\, attendees can expect a diverse array of styles\, from classic New York thin-crust to Sicilian squares\, grandma pies\, and Detroit-style deep dishes. \n“Over the past year\, my team and I toured the country\, devoured countless slices\, and I handpicked 40+ of my all-time favorite spots to bring together in one epic\, pizza-filled day\,” Portnoy said. “This is the greatest gathering of pizzerias ever!” \nMore Than Just Pizza\nThe One Bite Pizza Festival isn’t just about scarfing down slices (though that’s a major draw). The event offers a full-blown Italian experience with the Ferraro Foods Piazza\, where attendees can sample authentic Italian delicacies\, and the Italian Dessert Village\, featuring sweet treats from iconic spots like Sal & Jerry’s Bakery\, Ferrara Bakery & Cafe\, and the Lemon Ice King of Corona. Wash it all down with complimentary Pepsi\, Pepsi Zero Sugar\, or Pepsi Wild Cherry as part of the “Pizza Deserves Pepsi” experience\, or grab a High Noon hard seltzer for those 21+ looking to sip responsibly. \nInteractive activations add to the fun\, with partners like Ninja showcasing their new 5-in-1 pizza oven\, Verizon offering expedited entry for customers\, and Marie’s Refrigerated Salad Dressing providing a unique dressing wall to elevate your pizza game. BILT\, the festival’s official rewards program partner\, lets members use points to score tickets\, while brands like Saputo\, Marra Forni\, and Flatiron Pepper Co. bring additional flavor to the event. \nTwo Sessions\, Endless Slices\nThe festival runs in two sessions on September 13: an afternoon session from 1:00 PM to 4:30 PM and an evening session from 6:00 PM to 9:30 PM. General admission tickets start at $179.99\, granting access to unlimited pizza\, the Ferraro Foods Piazza\, the Italian Dessert Village\, and free Pepsi. For those looking to level up\, VIP tickets at $649.99 offer early access (30 minutes before the session starts)\, entry to Dave’s VIP Clubhouse with exclusive pizzerias like Ceres\, a complimentary open bar\, VIP-only restrooms\, and fast-track entrance. For the ultimate experience\, the Chef’s Tasting VIP Table delivers a seated\, full-service pizza buffet with tableside service and a visit from Portnoy himself. \nGetting to Randall’s Island is a breeze with the Manhattan Ferry\, departing from East 35th Street every 20 minutes (ferry passes sold separately). Tickets went on sale June 20\, 2025\, at 10:00 AM EST via onebitepizzafest.com\, and with past years selling out\, fans are urged to act fast. A presale option and a $25 deposit plan are available for those looking to secure their spot early. \nA Logistical Masterpiece\nProducing a festival of this scale is no small feat. Medium Rare’s co-founder Adam Richman explained the challenge of replicating each pizzeria’s unique oven setup—whether coal\, wood\, or gas—in an outdoor setting. “Every pizzeria uses a different oven\, and those ovens aren’t made for rentals or outdoor catering\,” Richman said. “We purchase or source the exact ovens each pizzeria uses in their home shop to ensure the pizza tastes just like it does in their restaurant.” This dedication to authenticity ensures that slices from heavyweights like Frank Pepe or Di Fara live up to their reputation. \nThe festival also boasts a star-studded list of partners\, including Pepsi\, Ninja\, Verizon\, and High Noon\, alongside musical performances and live pizza reviews by Portnoy himself. In 2024\, Portnoy donated all his proceeds to help rebuild Santillo’s Brick Oven Pizza in New Jersey after a fire\, showcasing his commitment to the pizza community. \nWhy You Should Go\nWhether you’re a die-hard “Stoolie” or just a pizza enthusiast\, the One Bite Pizza Festival is a bucket-list event. It’s a rare chance to sample slices from America’s best pizzerias in one place\, all curated by the internet’s most influential pizza critic. As Portnoy puts it\, “Pizza’s greatest gathering ever … One Bite\, Everyone Knows The Rules!” \nBut not everyone’s sold. Some critics argue the high ticket price doesn’t justify the experience\, suggesting a DIY pizza crawl through NYC’s iconic pizzerias might offer better value and a more authentic vibe. Others have raised concerns about Portnoy’s controversial past\, though participating pizzerias like Di Fara and Lucali cite the business boost from his reviews as a reason to join. \nGrab Your Tickets and Bring Your Stretchy Pants\nWith 40+ pizzerias\, unlimited slices\, and a festival vibe that blends food\, music\, and interactive fun\, the One Bite Pizza Festival 2025 is poised to be NYC’s ultimate foodie event. Whether you’re chasing the perfect slice or just want to soak in the pizza-fueled chaos\, this is one party you won’t want to miss. Head to onebitepizzafest.com to snag your tickets before they sell out\, and get ready to eat your way through pizza heaven.
URL:https://newyorkcityfeelings.com/calendar-event/one-bite-pizza-festival-nyc-2025/
LOCATION:Randall’s Island Park
ATTACH;FMTTYPE=image/gif:https://newyorkcityfeelings.com/wp-content/uploads/2025/09/DPOBEvenLogoGIF_Refine-ezgif.com-optimiz.gif
END:VEVENT
BEGIN:VEVENT
DTSTART;TZID=UTC:20250927T080000
DTEND;TZID=UTC:20251026T170000
DTSTAMP:20260421T205832
CREATED:20250123T173804Z
LAST-MODIFIED:20250123T174058Z
UID:7039-1758960000-1761498000@newyorkcityfeelings.com
SUMMARY:Fall-O-Ween in New York City 2025
DESCRIPTION:Get ready for a pumpkin-packed autumn adventure at the New York Botanical Garden’s Fall-O-Ween\, the ultimate seasonal celebration that transforms the garden into NYC’s most festive fall destination! \nFrom September 27th through October 26th\, 2025\, Fall-O-Ween promises an incredible array of autumnal delights for visitors of all ages. This isn’t just another seasonal event – it’s a full-blown fall festival that brings the magic of autumn to life in spectacular fashion. \nPumpkin Paradise\nThe garden becomes a pumpkin headquarters with jaw-dropping displays that will make your Instagram followers green with envy. Highlights include: \n– A stunning Pumpkin Wall showcasing incredible pumpkin varieties\n– Giant pumpkins on display (some weighing over 2\,000 pounds!)\n– Pumpkin Promenade featuring hundreds of gourds in all shapes and sizes \nExciting Events and Attractions\nPumpkin Carving Extravaganza\nPumpkin art fans\, rejoice! Adam Bierton\, a master carver\, will be performing live carving demonstrations and hosting a Pumpkin Carving Face-Off where skilled artists create incredible designs. \nBales & Ales (21+ Event)\nBeer lovers can enjoy the Bales & Ales event on September 28th\, featuring:\n– Local craft breweries\n– Unlimited beer\, cider\, and seltzer samples\n– Live music\n– Lawn games \nFamily-Friendly Fun\nKids will love the Scarecrows & Pumpkins area in the Everett Children’s Adventure Garden\, with puppet theaters\, musical instruments\, and spooky scarecrow displays. \nCapture the Season\nDon’t miss the chance to take picture-perfect fall photos surrounded by hundreds of pumpkins and the garden’s stunning autumn landscape. \nPro tip: Use GiantPumpkinsNYBG to share your experience and potentially get a shoutout from the event organizers! \nTickets are available\, with options for individuals and family bundles. Whether you’re a pumpkin enthusiast\, craft beer lover\, or just looking for a quintessential fall experience\, Fall-O-Ween has something for everyone! \nPhoto: Greg’s Pumpkin Patch
URL:https://newyorkcityfeelings.com/calendar-event/fall-o-ween-in-new-york-city/
LOCATION:New York Botanical Garden
ATTACH;FMTTYPE=image/jpeg:https://newyorkcityfeelings.com/wp-content/uploads/2025/01/Painted-Pumpkins-on-Display-768x576-1.jpeg
END:VEVENT
END:VCALENDAR