BEGIN:VCALENDAR
VERSION:2.0
PRODID:-//NYC Travel Guide 2026: Things to Do, Eat, Events &amp; More - ECPv6.15.20//NONSGML v1.0//EN
CALSCALE:GREGORIAN
METHOD:PUBLISH
X-ORIGINAL-URL:https://newyorkcityfeelings.com
X-WR-CALDESC:Events for NYC Travel Guide 2026: Things to Do, Eat, Events &amp; More
REFRESH-INTERVAL;VALUE=DURATION:PT1H
X-Robots-Tag:noindex
X-PUBLISHED-TTL:PT1H
BEGIN:VTIMEZONE
TZID:UTC
BEGIN:STANDARD
TZOFFSETFROM:+0000
TZOFFSETTO:+0000
TZNAME:UTC
DTSTART:20240101T000000
END:STANDARD
END:VTIMEZONE
BEGIN:VEVENT
DTSTART;TZID=UTC:20250603T203000
DTEND;TZID=UTC:20250615T220000
DTSTAMP:20260420T192119
CREATED:20250602T102346Z
LAST-MODIFIED:20250602T102909Z
UID:7841-1748982600-1750024800@newyorkcityfeelings.com
SUMMARY:The Counterfeit Opera Takes Over Little Island
DESCRIPTION:New York City’s summer arts scene is heating up\, and the star of the show this season is The Counterfeit Opera at Little Island. This fresh\, cheeky musical\, which kicked off on May 29\, 2025\, is a rollicking reimagining of the legendary satire The Beggar’s Opera—only this time\, it’s set in the grimy\, glittering streets of 1850s Manhattan. \nWhat’s It All About? \nThe Counterfeit Opera centers on the antihero Macheath\, a rogue and robber\, and his gang of grifters\, hustlers\, and working women who are too smart to fail but too poor to win. The show trades in charm\, mystery\, and steamy romance\, all while poking fun at corruption and the powers that be—just like its inspiration\, which has been roasting politicians for centuries. \nA Little Bit of Everything \nThis isn’t just another opera—it’s a “fake opera\,” as the creators cheekily put it. The story follows a group of modern-day thieves who use treasures stolen from the Metropolitan Opera to stage their own show. “The thieves are referring to it as an opera\,” says director Dustin Wills. “They likely don’t frequent the opera very much.” The result is a madcap caper that’s part heist\, part love story\, and all fun. \nThe Vibe \nIf you’re looking for a night that’s equal parts theater and party\, this is it. Each performance runs about 90 minutes\, and after the curtain falls\, you can stick around for a nightcap at The Play Ground\, Little Island’s open-air plaza. With local wine\, beer\, cocktails\, and snacks—plus killer skyline views—it’s the perfect way to cap off a summer evening in the city. \nWhy You Should Go \nTickets start at just $10 for standing rail spots and $25 for regular seats\, making this one of the most accessible and entertaining shows in town. Whether you’re a theater buff\, a history nerd\, or just looking for a good time\, The Counterfeit Opera is a must-see. It’s running through June 15 at The Amph at Little Island\, Pier 55\, right on the Hudson River. \nSo grab your friends\, snag a ticket\, and get ready for a night of wit\, music\, and mischief—New York style.
URL:https://newyorkcityfeelings.com/calendar-event/the-counterfeit-opera-takes-over-little-island/
LOCATION:Little Island\, Pier55 in Hudson River Park West 13th Street\, Manhattan\, NY\, United States
CATEGORIES:Manhattan
ATTACH;FMTTYPE=image/png:https://newyorkcityfeelings.com/wp-content/uploads/2025/06/little-island.png
END:VEVENT
BEGIN:VEVENT
DTSTART;TZID=UTC:20250612T080000
DTEND;TZID=UTC:20250612T170000
DTSTAMP:20260420T192119
CREATED:20250128T115932Z
LAST-MODIFIED:20251124T093441Z
UID:7186-1749715200-1749747600@newyorkcityfeelings.com
SUMMARY:NY Philharmonic Concerts at The Great Lawn in Central Park
DESCRIPTION:This summer\, Thomas Wilkins conducts the Orchestra in a program that ranges from classics by Beethoven\, Elgar\, and Rimsky-Korsakov to Felix Mendelssohn’s Violin Concerto\, with Randall Goosby as soloist\, to new music by Carlos Simon and NY Phil Very Young Composers. \nThis concert is scheduled to conclude with fireworks! \n\nThe concert will be held in the Great Lawn. Westside entrances are located via West 81st or 86th at Central Park West. Eastside entrances are located via East 79th or 85th Street at Fifth Avenue.\nThe New York Philharmonic Concerts in Central Park is completely free and open to the public.\nAll outdoor concerts are approximately 2 hours long\, followed by fireworks.\nLawn spots are first-come\, first-served. There are no reservations.\n\n 
URL:https://newyorkcityfeelings.com/calendar-event/ny-philharmonic-concerts-at-great-lawn-in-central-park/
LOCATION:Central Park\, Central Park\, New York City\, NY\, United States
CATEGORIES:Central Park
ATTACH;FMTTYPE=image/webp:https://newyorkcityfeelings.com/wp-content/uploads/2025/01/DSC6908.webp
END:VEVENT
END:VCALENDAR