BEGIN:VCALENDAR
VERSION:2.0
PRODID:-//NYC Travel Guide 2026: Things to Do, Eat, Events &amp; More - ECPv6.15.20//NONSGML v1.0//EN
CALSCALE:GREGORIAN
METHOD:PUBLISH
X-WR-CALNAME:NYC Travel Guide 2026: Things to Do, Eat, Events &amp; More
X-ORIGINAL-URL:https://newyorkcityfeelings.com
X-WR-CALDESC:Events for NYC Travel Guide 2026: Things to Do, Eat, Events &amp; More
REFRESH-INTERVAL;VALUE=DURATION:PT1H
X-Robots-Tag:noindex
X-PUBLISHED-TTL:PT1H
BEGIN:VTIMEZONE
TZID:UTC
BEGIN:STANDARD
TZOFFSETFROM:+0000
TZOFFSETTO:+0000
TZNAME:UTC
DTSTART:20240101T000000
END:STANDARD
END:VTIMEZONE
BEGIN:VEVENT
DTSTART;TZID=UTC:20250404T150000
DTEND;TZID=UTC:20250404T190000
DTSTAMP:20260420T155259
CREATED:20250129T081955Z
LAST-MODIFIED:20251108T093601Z
UID:7227-1743778800-1743793200@newyorkcityfeelings.com
SUMMARY:New York Mets 2025 Home Opener Game
DESCRIPTION:  \nBuy New York Mets 2025 Home Opener Tickets at HelloTickets.com \n  \nNew York Mets 2025 Home Opener Announcement\nEnjoy the electric atmosphere of Opening Day at Citi Field. The New York Mets will host their home opener on Friday\, April 4th\, 2025. Fans can catch the game at Citi Field\, with tickets starting at $163.93. \nThe Mets will be facing the Toronto Blue Jays in this exciting season-opening match\, with the first pitch scheduled for 3:10 pm EDT. \nGame Highlights:\n– It’s the first game of the season\, bringing baseball excitement back to New York!\n– Perfect opportunity to support the team and kick off the 2025 MLB season\n– Enjoy the electric atmosphere of Opening Day at Citi Field \nDon’t miss this thrilling start to the Mets’ 2025 season!\n  \nBuy New York Mets 2025 Home Opener Tickets at HelloTickets.com \n 
URL:https://newyorkcityfeelings.com/calendar-event/new-york-mets-2025-home-opener-game/
LOCATION:Citi Field\, Citi Field\, Flushing Queens\, New York City\, NY\, United States
CATEGORIES:Queens
ATTACH;FMTTYPE=image/jpeg:https://newyorkcityfeelings.com/wp-content/uploads/2025/01/USATSI_8518100-1021x580-1.jpeg
END:VEVENT
BEGIN:VEVENT
DTSTART;VALUE=DATE:20250422
DTEND;VALUE=DATE:20250423
DTSTAMP:20260420T155259
CREATED:20250102T180531Z
LAST-MODIFIED:20250102T180716Z
UID:6662-1745280000-1745366399@newyorkcityfeelings.com
SUMMARY:Stranger Things: The First Shadow Broadway Opening 2025
DESCRIPTION:Stranger Things: The First Shadow is a thrilling new play that dives into the origins of the beloved Netflix series. Set in Hawkins\, Indiana\, in 1959\, it reveals the backstory of Henry Creel\, who eventually becomes the infamous villain\, Vecna. \nThe Plot Unfolds\nThe play follows Henry Creel as he moves to Hawkins with his family. They seek a fresh start\, but things quickly turn dark. Henry struggles with his new life and meets Patty\, Bob’s adopted sister. Together\, they bond over their outsider status. However\, strange events begin to unfold when neighborhood pets start disappearing. The atmosphere thickens with suspense as Henry grapples with his nightmares and dark powers. \nKey Characters\n– Henry Creel: A troubled teen with supernatural abilities. He tries to fit in while battling his inner demons.\n– Patty Newby: Henry’s friend who helps him navigate his challenges.\n– Joyce Maldonado: A character dreaming of escape from Hawkins.\n– Jim Hopper: A young man dealing with everyday troubles in town. \nCreative Team Behind the Magic\nThe play features an original story by the Duffer Brothers\, the creators of Stranger Things. It is written by Kate Trefry and directed by Stephen Daldry. This talented team brings a unique blend of horror and drama to the stage. The production promises stunning visuals and intense performances. \nThemes and Connections\nThe First Shadow explores themes of friendship\, identity\, and the struggle between good and evil. It connects deeply with the main series\, enriching the backstory of characters fans already love. Viewers can expect to see hints of what lies ahead in the Stranger Things universe. \nAudience Reception\nEarly reviews highlight the play’s engaging storytelling and impressive stagecraft. Critics praise the performances\, especially that of Louis McCartney as Henry. The blend of horror elements with heartfelt moments creates a captivating experience for both newcomers and longtime fans. \nStranger Things: The First Shadow is more than just a prequel; it is a journey into the heart of Hawkins before everything turned upside down. With its gripping narrative and rich character development\, this play adds depth to an already beloved franchise. Fans should not miss this chance to witness the beginnings of one of Netflix’s most iconic stories.
URL:https://newyorkcityfeelings.com/calendar-event/stranger-things-the-first-shadow-broadway-opening-2025/
LOCATION:Marquis Theatre\, 210 W 46th St\, New York City\, United States
ATTACH;FMTTYPE=image/png:https://newyorkcityfeelings.com/wp-content/uploads/2025/01/The_First_Shadow_poster.png
END:VEVENT
END:VCALENDAR