BEGIN:VCALENDAR
VERSION:2.0
PRODID:-//NYC Travel Guide 2026: Things to Do, Eat, Events &amp; More - ECPv6.15.20//NONSGML v1.0//EN
CALSCALE:GREGORIAN
METHOD:PUBLISH
X-ORIGINAL-URL:https://newyorkcityfeelings.com
X-WR-CALDESC:Events for NYC Travel Guide 2026: Things to Do, Eat, Events &amp; More
REFRESH-INTERVAL;VALUE=DURATION:PT1H
X-Robots-Tag:noindex
X-PUBLISHED-TTL:PT1H
BEGIN:VTIMEZONE
TZID:UTC
BEGIN:STANDARD
TZOFFSETFROM:+0000
TZOFFSETTO:+0000
TZNAME:UTC
DTSTART:20240101T000000
END:STANDARD
END:VTIMEZONE
BEGIN:VEVENT
DTSTART;TZID=UTC:20251108T110000
DTEND;TZID=UTC:20251109T180000
DTSTAMP:20260419T224305
CREATED:20251105T172159Z
LAST-MODIFIED:20251113T182818Z
UID:9208-1762599600-1762711200@newyorkcityfeelings.com
SUMMARY:FAD Market Dumbo
DESCRIPTION:Handmade jewelry\, apparel\, artisanal food. Dog-friendly & free.\nThe upcoming FAD Market fall pop-up event will take place on November 8-9\, 2025\, at Empire Stores in DUMBO\, Brooklyn. From 11:00 AM to 6:00 PM\, visitors can explore the creations of over 35 talented local makers\, artisans\, and small businesses\, featuring handmade jewelry\, apparel\, skincare products\, tableware\, and artisanal food. This event offers a vibrant atmosphere to shop\, enjoy the waterfront views\, and explore the charming Dumbo neighborhood. \nImage credit Time Out
URL:https://newyorkcityfeelings.com/calendar-event/fad-market-dumbo/
CATEGORIES:Handmade,Markets
ATTACH;FMTTYPE=image/jpeg:https://newyorkcityfeelings.com/wp-content/uploads/2025/11/fad-market.jpg
END:VEVENT
END:VCALENDAR