BEGIN:VCALENDAR
VERSION:2.0
PRODID:-//NYC Travel Guide 2026: Things to Do, Eat, Events &amp; More - ECPv6.15.20//NONSGML v1.0//EN
CALSCALE:GREGORIAN
METHOD:PUBLISH
X-ORIGINAL-URL:https://newyorkcityfeelings.com
X-WR-CALDESC:Events for NYC Travel Guide 2026: Things to Do, Eat, Events &amp; More
REFRESH-INTERVAL;VALUE=DURATION:PT1H
X-Robots-Tag:noindex
X-PUBLISHED-TTL:PT1H
BEGIN:VTIMEZONE
TZID:UTC
BEGIN:STANDARD
TZOFFSETFROM:+0000
TZOFFSETTO:+0000
TZNAME:UTC
DTSTART:20240101T000000
END:STANDARD
END:VTIMEZONE
BEGIN:VEVENT
DTSTART;TZID=UTC:20260214T180000
DTEND;TZID=UTC:20260214T210000
DTSTAMP:20260420T053223
CREATED:20251111T092351Z
LAST-MODIFIED:20251113T182358Z
UID:9489-1771092000-1771102800@newyorkcityfeelings.com
SUMMARY:Valentine’s Day in Times Square
DESCRIPTION:Vow renewals\, proposals on the big screens\, heart installations. Free!
URL:https://newyorkcityfeelings.com/calendar-event/valentines-day-in-times-square/
LOCATION:Times Square\, 1 Times Square\, New York City\, United States
CATEGORIES:Free,Romance
END:VEVENT
BEGIN:VEVENT
DTSTART;TZID=UTC:20251231T180000
DTEND;TZID=UTC:20260101T001500
DTSTAMP:20260420T053223
CREATED:20251106T120724Z
LAST-MODIFIED:20251117T111409Z
UID:9279-1767204000-1767226500@newyorkcityfeelings.com
SUMMARY:New Year’s Eve Ball Drop
DESCRIPTION:1 million people\, 1 ton of confetti\, 2\,688 crystals. No bathrooms—plan ahead!
URL:https://newyorkcityfeelings.com/calendar-event/new-years-eve-ball-drop/
LOCATION:Times Square\, 1 Times Square\, New York City\, United States
CATEGORIES:Free,NYE
ATTACH;FMTTYPE=image/jpeg:https://newyorkcityfeelings.com/wp-content/uploads/2024/12/570872.jpeg
END:VEVENT
BEGIN:VEVENT
DTSTART;TZID=UTC:20251115T080000
DTEND;TZID=UTC:20260216T170000
DTSTAMP:20260420T053223
CREATED:20251106T120524Z
LAST-MODIFIED:20251110T201722Z
UID:9272-1763193600-1771261200@newyorkcityfeelings.com
SUMMARY:Holiday Train Show – Grand Central
DESCRIPTION:40th anniversary: Lionel trains wind past mini NYC landmarks.\nThe Holiday Train Show at Grand Central Terminal is a free\, annual exhibition presented by the New York Transit Museum. It features Lionel model trains traveling through a miniature New York City landscape\, and is currently open to the public from November 13\, 2025\, through February 2026. \nKey Details for 2025-2026\nLocation: The New York Transit Museum Gallery Annex and Store in Grand Central Terminal\, located in the Shuttle Passage\, adjacent to the Station Master’s Office.\nAdmission: The event is free and open to the public.\nDates: The show runs from Thursday\, November 13\, 2025\, through February 2026. \nHours:\nMonday – Friday: 10 a.m. to 7:30 p.m.\nSaturday – Sunday: 10 a.m. to 6 p.m.\nClosed on major holidays. \nWhat to Expect\nThe display is a 34-foot\, two-level “O” gauge model train layout that begins at a miniature Grand Central Terminal and winds past New York City landmarks\, eventually making its way to the North Pole. The exhibit includes model Metro-North\, vintage subway\, and whimsical Polar Express trains\, complete with realistic lights and sounds. \nFor the 2025 season\, the display also features artwork by artists James Yang and Erin K. Robinson to mark the 40th anniversary of the MTA Arts & Design program. Visitors can also get a scavenger hunt paper to find hidden elements within the display. \nEVENT WEBSITE: https://grandcentralterminal.com/holiday-train-show \nImage credit Argenis-Apolinario
URL:https://newyorkcityfeelings.com/calendar-event/holiday-train-show-grand-central/
LOCATION:NY
CATEGORIES:Free,Trains
ATTACH;FMTTYPE=image/avif:https://newyorkcityfeelings.com/wp-content/uploads/2025/11/Holiday-Train-Show_-Photo-by-Argenis-Apolinario.avif
END:VEVENT
END:VCALENDAR