BEGIN:VCALENDAR
VERSION:2.0
PRODID:-//NYC Travel Guide 2026: Things to Do, Eat, Events &amp; More - ECPv6.15.20//NONSGML v1.0//EN
CALSCALE:GREGORIAN
METHOD:PUBLISH
X-WR-CALNAME:NYC Travel Guide 2026: Things to Do, Eat, Events &amp; More
X-ORIGINAL-URL:https://newyorkcityfeelings.com
X-WR-CALDESC:Events for NYC Travel Guide 2026: Things to Do, Eat, Events &amp; More
REFRESH-INTERVAL;VALUE=DURATION:PT1H
X-Robots-Tag:noindex
X-PUBLISHED-TTL:PT1H
BEGIN:VTIMEZONE
TZID:UTC
BEGIN:STANDARD
TZOFFSETFROM:+0000
TZOFFSETTO:+0000
TZNAME:UTC
DTSTART:20250101T000000
END:STANDARD
END:VTIMEZONE
BEGIN:VEVENT
DTSTART;VALUE=DATE:20261101
DTEND;VALUE=DATE:20261102
DTSTAMP:20260421T182903
CREATED:20241029T094802Z
LAST-MODIFIED:20251105T172816Z
UID:5788-1793491200-1793577599@newyorkcityfeelings.com
SUMMARY:2026 TCS New York City Marathon
DESCRIPTION:The 2026 TCS New York City Marathon is set to be an exciting event for runners and spectators alike\, scheduled for November 1\, 2026. This iconic race will continue the tradition of showcasing the vibrant streets of New York City\, attracting thousands of participants from around the world. \nRegistration Details \n– Application Period: The specific dates for registration will be announced at the end of 2025. A lottery system will be used for entry\, with guaranteed spots available for New York Road Runners (NYRR) members who complete nine qualifying races and volunteer at an event in 2025. \n– Fundraising Opportunities: Runners can secure guaranteed entries by participating in fundraising efforts with official charity partners\, which will also be announced closer to the event date. \nThe marathon is renowned not only for its challenging course but also for the electric atmosphere created by supporters along the route. Participants will traverse all five boroughs\, culminating in a finish at Central Park. The NYC Marathon is often described as one of the most exhilarating experiences in the running community\, with a unique blend of camaraderie and competition.
URL:https://newyorkcityfeelings.com/calendar-event/2026-tcs-new-york-city-marathon/
LOCATION:5 Boroughts\, 5 Boroughts\, New York City\, NY\, United States
CATEGORIES:5 boroughts
ATTACH;FMTTYPE=image/png:https://newyorkcityfeelings.com/wp-content/uploads/2024/10/racepage_nycm_horizontallogo_fc_rgb.png
END:VEVENT
END:VCALENDAR