BEGIN:VCALENDAR
VERSION:2.0
PRODID:-//NYC Travel Guide 2026: Things to Do, Eat, Events &amp; More - ECPv6.15.20//NONSGML v1.0//EN
CALSCALE:GREGORIAN
METHOD:PUBLISH
X-WR-CALNAME:NYC Travel Guide 2026: Things to Do, Eat, Events &amp; More
X-ORIGINAL-URL:https://newyorkcityfeelings.com
X-WR-CALDESC:Events for NYC Travel Guide 2026: Things to Do, Eat, Events &amp; More
REFRESH-INTERVAL;VALUE=DURATION:PT1H
X-Robots-Tag:noindex
X-PUBLISHED-TTL:PT1H
BEGIN:VTIMEZONE
TZID:UTC
BEGIN:STANDARD
TZOFFSETFROM:+0000
TZOFFSETTO:+0000
TZNAME:UTC
DTSTART:20250101T000000
END:STANDARD
END:VTIMEZONE
BEGIN:VEVENT
DTSTART;VALUE=DATE:20261016
DTEND;VALUE=DATE:20261020
DTSTAMP:20260421T202129
CREATED:20250123T080543Z
LAST-MODIFIED:20251117T173504Z
UID:7013-1792108800-1792454399@newyorkcityfeelings.com
SUMMARY:Open House New York Weekend 2026Free & Ticketed Architecture Tours in NYC | Dates & Tickets
DESCRIPTION:Get Ready to Explore NYC: OHNY Weekend 2026!\nDiscover hidden NYC gems during Open House New York Weekend 2026 (Oct 16-19). Free guided tours of historic sites like the Domino Sugar Factory penthouse. Tickets from $6—book Oct 8! Explore architecture\, culture & more. \nWhat Makes OHNY Weekend So Special?\nHere are some truly unique sites that promise extraordinary experiences: \nArchitectural and Industrial Gems\n– New York Sign Museum: Discover the fascinating world of vintage storefront signs in this normally appointment-only museum. Limited to just 15 people at a time\, it’s a rare chance to see rescued signs from iconic NYC businesses. \n– Barone Steel Fabricators: For industrial enthusiasts\, this Sunset Park site offers a guided tour of large-scale steel fabrication. Note: Visitors must be 18 or older\, and safety glasses are provided. \n– The Refinery at Domino Penthouse: Explore the stunning glass dome atop the renovated Domino Sugar Factory\, with floor-to-ceiling views overlooking the city. \n  \n\nOpen House New York Weekend 2026 – Frequently Asked Questions\n\nWhat is Open House New York Weekend?\nOpen House New York (OHNY) Weekend is the city’s largest architecture and design event. Every October\, hundreds of buildings\, projects\, and sites — many normally closed to the public — open their doors for free or low-cost guided tours\, talks\, and experiences. It’s like getting a backstage pass to NYC’s architectural treasures! \n\n\nWhen is Open House New York 2026?\nOHNY Weekend 2026 takes place from Thursday\, October 16 to Sunday\, October 19\, 2026. Some ticketed events start as early as Thursday evening\, while the majority of free and reservation-required tours happen Friday through Sunday. \n\n\nHow do I get tickets for Open House New York 2026?\n– Free sites: Many are first-come\, first-served (lines can be long!).\n– Sites requiring advance reservation: Book starting Wednesday\, October 8\, 2026 at 11:00 AM ET via the official OHNY website.\n– Paid ticketed experiences (starting at $6): Available the same day and usually sell out fast. \nPro tip: Set a reminder and log in a few minutes early — popular tours like the Domino Sugar Factory penthouse disappear in seconds! \n\n\nAre there any completely free tours?\nYes! Dozens of sites are 100% free and don’t require advance tickets (e.g.\, self-guided interiors\, outdoor projects\, and select talks). Check the official program in early October for the full list. \n\n\nWhat are the must-see sites for 2026?\nSome of the most anticipated openings this year include: \n\nRefinery at Domino – Penthouse & Terrace (ticketed)\nNew York Sign Museum (first-ever OHNY appearance)\nHenry Street Settlement historic buildings\nSunset Park industrial gems (concrete plants\, recycling facilities)\nLower East Side walking tours\n\n\n\nIs Open House New York family-friendly?\nAbsolutely! Many sites welcome kids (check age restrictions on ticketed tours). Free outdoor events and neighborhood walks are especially great for families. \n\n\nCan I volunteer or become an OHNY member?\nYes! Volunteers get early access to some reservations and a free one-year membership. Sign up to volunteer here (official OHNY link). \n\n\nI missed tickets — any chance of getting in?\nSome sites release additional tickets a day or two before\, and standby lines often work for popular locations. Follow @ohny on Instagram and X for real-time updates. \n\n\nWhere can I see other cool architecture in NYC year-round?\nCheck out our guides to permanent gems like the Woolworth Building\, The Oculus\, or Summit One Vanderbilt.
URL:https://newyorkcityfeelings.com/calendar-event/open-house-new-york-weekend/
LOCATION:Manhattan\, Manhattan\, New York City\, United States
CATEGORIES:5 boroughts
ATTACH;FMTTYPE=image/jpeg:https://newyorkcityfeelings.com/wp-content/uploads/2025/01/Claremont-Hall_Ben-Helmer_13.jpeg
ORGANIZER;CN="OHNY":MAILTO:info@ohny.org
END:VEVENT
END:VCALENDAR