BEGIN:VCALENDAR
VERSION:2.0
PRODID:-//NYC Travel Guide 2026: Things to Do, Eat, Events &amp; More - ECPv6.15.20//NONSGML v1.0//EN
CALSCALE:GREGORIAN
METHOD:PUBLISH
X-WR-CALNAME:NYC Travel Guide 2026: Things to Do, Eat, Events &amp; More
X-ORIGINAL-URL:https://newyorkcityfeelings.com
X-WR-CALDESC:Events for NYC Travel Guide 2026: Things to Do, Eat, Events &amp; More
REFRESH-INTERVAL;VALUE=DURATION:PT1H
X-Robots-Tag:noindex
X-PUBLISHED-TTL:PT1H
BEGIN:VTIMEZONE
TZID:UTC
BEGIN:STANDARD
TZOFFSETFROM:+0000
TZOFFSETTO:+0000
TZNAME:UTC
DTSTART:20240101T000000
END:STANDARD
END:VTIMEZONE
BEGIN:VEVENT
DTSTART;VALUE=DATE:20250911
DTEND;VALUE=DATE:20250913
DTSTAMP:20260421T225041
CREATED:20190826T171910Z
LAST-MODIFIED:20250730T190244Z
UID:2572-1757548800-1757721599@newyorkcityfeelings.com
SUMMARY:Tribute in Light 2025 New York City | 9/11 Memorial Light Installation NYC
DESCRIPTION:The Tribute in Light 2025 is set to illuminate the New York City skyline on the evening of September 11\, once again honoring the lives lost in the September 11\, 2001\, terrorist attacks. This moving art installation features two powerful vertical columns of light that represent the Twin Towers\, shining from dusk until dawn over Lower Manhattan\, near the original World Trade Center site. \nThe installation uses 88 high-intensity xenon spotlights (44 for each tower)\, producing beams visible up to 60 miles away on a clear night. The lights reach as high as four miles into the sky\, casting an evocative homage to the Twin Towers and symbolizing resilience\, unity\, and remembrance. The Tribute in Light began as a temporary memorial in 2002 and has become an annual tradition\, organized by the National September 11 Memorial & Museum and the Municipal Art Society of New York. \nFor the 24th anniversary in 2025\, the project continues its longstanding collaboration with New York City Tourism + Conventions and many city buildings that also participate by lighting their facades and rooftops in sky blue — a symbolic gesture of collective memory and honor. This luminous tribute serves not only as a memorial but also as a beacon of hope and strength\, reminding millions each year of the city’s resilience in the face of tragedy. \nThe Tribute in Light stands as a poignant annual reminder in New York City’s heart\, offering a moment of reflection and unity from dusk on September 11 to the dawn of September 12\, 2025. \nThe beams can be best seen from Lower Manhattan and many surrounding areas\, especially on a clear night. This year’s event continues to honor the memory of those lost while celebrating the enduring spirit of New York City.
URL:https://newyorkcityfeelings.com/calendar-event/tribute-in-light-2025/
LOCATION:9/11 Memeorial\, 9/11 Memorial\, New York City\, NY\, 10001\, United States
CATEGORIES:Manhattan
ATTACH;FMTTYPE=image/webp:https://newyorkcityfeelings.com/wp-content/uploads/2019/08/tribute-in-light-new-york-city_b2cf33c4-d5ce-4b8e-a235-57300d5345f4.webp
END:VEVENT
END:VCALENDAR