BEGIN:VCALENDAR
VERSION:2.0
PRODID:-//NYC Travel Guide 2026: Things to Do, Eat, Events &amp; More - ECPv6.15.20//NONSGML v1.0//EN
CALSCALE:GREGORIAN
METHOD:PUBLISH
X-ORIGINAL-URL:https://newyorkcityfeelings.com
X-WR-CALDESC:Events for NYC Travel Guide 2026: Things to Do, Eat, Events &amp; More
REFRESH-INTERVAL;VALUE=DURATION:PT1H
X-Robots-Tag:noindex
X-PUBLISHED-TTL:PT1H
BEGIN:VTIMEZONE
TZID:UTC
BEGIN:STANDARD
TZOFFSETFROM:+0000
TZOFFSETTO:+0000
TZNAME:UTC
DTSTART:20240101T000000
END:STANDARD
END:VTIMEZONE
BEGIN:VEVENT
DTSTART;TZID=UTC:20250728T103000
DTEND;TZID=UTC:20250728T150000
DTSTAMP:20260421T002409
CREATED:20190826T170244Z
LAST-MODIFIED:20251026T183946Z
UID:2562-1753698600-1753714800@newyorkcityfeelings.com
SUMMARY:NYC's Annual Tugboat Race 2025
DESCRIPTION:Get onboard the Spectator Boat and see the whole event up-close. Cruise with the Parade of Boats\, and even race alongside the tugs in the big race! Boarding begins at 10:15 am\, departure is at 10:30am from pier 83–so you’ll be on the water before the parade!\nWatch epic battles for supremacy in the on-water nose-to-nose pushing and then the line-toss contests when tugs arrive at the finish line at Pier 84.
URL:https://newyorkcityfeelings.com/calendar-event/nycs-annual-tugboat-race/
LOCATION:Pier 84\, New York City\, NY\, United States
CATEGORIES:Manhattan
ATTACH;FMTTYPE=image/jpeg:https://newyorkcityfeelings.com/wp-content/uploads/2019/08/atlantic-salvor1.jpg
END:VEVENT
END:VCALENDAR