BEGIN:VCALENDAR
VERSION:2.0
PRODID:-//NYC Travel Guide 2026: Things to Do, Eat, Events &amp; More - ECPv6.15.20//NONSGML v1.0//EN
CALSCALE:GREGORIAN
METHOD:PUBLISH
X-ORIGINAL-URL:https://newyorkcityfeelings.com
X-WR-CALDESC:Events for NYC Travel Guide 2026: Things to Do, Eat, Events &amp; More
REFRESH-INTERVAL;VALUE=DURATION:PT1H
X-Robots-Tag:noindex
X-PUBLISHED-TTL:PT1H
BEGIN:VTIMEZONE
TZID:UTC
BEGIN:STANDARD
TZOFFSETFROM:+0000
TZOFFSETTO:+0000
TZNAME:UTC
DTSTART:20240101T000000
END:STANDARD
END:VTIMEZONE
BEGIN:VEVENT
DTSTART;TZID=UTC:20250327T150000
DTEND;TZID=UTC:20250327T190000
DTSTAMP:20260420T155427
CREATED:20250129T080847Z
LAST-MODIFIED:20250129T081134Z
UID:7218-1743087600-1743102000@newyorkcityfeelings.com
SUMMARY:New York Yankees Home Opener 2025
DESCRIPTION:  \nBuy New York Yankees Home Opener 2025 Tickets at HelloTickets.com \n  \nYankees Home Opener 2025: Brewers Battle in the Bronx!\nBaseball fans can look forward to the start of the Yankees’ home season as they face off against the Milwaukee Brewers at Yankee Stadium in the Bronx. \nThe road to another World Series championship kicks off on Opening Day 2025\, with the Yankees set to take the field after a long\, cold offseason. March 27th promises to be the official first day of summer at Yankee Stadium! \nGame Details:\n– Date: Thursday\, March 27\, 2025\n– Time: 3:05 PM\n– Opponent: Milwaukee Brewers\n– Venue: Yankee Stadium\, Bronx\, NY \nWhat to Expect:\nThis will be an exciting interleague opening homestand\, with the Arizona Diamondbacks following the Brewers into the Bronx after this first series. Fans should be prepared for potentially chilly early spring weather – pack those heavy coats! \nAfter months of anticipation\, baseball is back\, and fans won’t want to miss the excitement as the team takes the field for the first time in five months! \nTicket Information:\nThe game will be broadcast on ESPN\, with tickets available at Yankee Stadium.\n  \nBuy New York Yankees Home Opener 2025 Tickets at HelloTickets.com \n 
URL:https://newyorkcityfeelings.com/calendar-event/new-york-yankees-home-opener-2025/
LOCATION:Yankee Stadium\, Bronx\, NY\, Yankee Stadium\, Bronx\, NY\, New York City\, NY\, United States
ATTACH;FMTTYPE=image/webp:https://newyorkcityfeelings.com/wp-content/uploads/2025/01/yanksopener.webp
END:VEVENT
END:VCALENDAR